BEGIN:VCALENDAR
VERSION:2.0
PRODID:-//Association quebecoise des medecins du sport - ECPv6.15.17.1//NONSGML v1.0//EN
CALSCALE:GREGORIAN
METHOD:PUBLISH
X-WR-CALNAME:Association quebecoise des medecins du sport
X-ORIGINAL-URL:https://aqmse.org
X-WR-CALDESC:Évènements pour Association quebecoise des medecins du sport
REFRESH-INTERVAL;VALUE=DURATION:PT1H
X-Robots-Tag:noindex
X-PUBLISHED-TTL:PT1H
BEGIN:VTIMEZONE
TZID:America/Toronto
BEGIN:DAYLIGHT
TZOFFSETFROM:-0500
TZOFFSETTO:-0400
TZNAME:EDT
DTSTART:20250309T070000
END:DAYLIGHT
BEGIN:STANDARD
TZOFFSETFROM:-0400
TZOFFSETTO:-0500
TZNAME:EST
DTSTART:20251102T060000
END:STANDARD
BEGIN:DAYLIGHT
TZOFFSETFROM:-0500
TZOFFSETTO:-0400
TZNAME:EDT
DTSTART:20260308T070000
END:DAYLIGHT
BEGIN:STANDARD
TZOFFSETFROM:-0400
TZOFFSETTO:-0500
TZNAME:EST
DTSTART:20261101T060000
END:STANDARD
BEGIN:DAYLIGHT
TZOFFSETFROM:-0500
TZOFFSETTO:-0400
TZNAME:EDT
DTSTART:20270314T070000
END:DAYLIGHT
BEGIN:STANDARD
TZOFFSETFROM:-0400
TZOFFSETTO:-0500
TZNAME:EST
DTSTART:20271107T060000
END:STANDARD
END:VTIMEZONE
BEGIN:VEVENT
DTSTART;TZID=America/Toronto:20260331T180000
DTEND;TZID=America/Toronto:20260331T210000
DTSTAMP:20260424T051729
CREATED:20260215T192753Z
LAST-MODIFIED:20260403T141515Z
UID:10000035-1774980000-1774990800@aqmse.org
SUMMARY:Soirée AQMSE – Le cycliste blessé : de la biomécanique au retour sur le vélo
DESCRIPTION:ATTENTION : CHANGEMENT D’HEURE DE DÉBUT.\nLa conférence débutera à 18 h\, et non à 18 h 30. Merci de votre compréhension. \nUn lien Teams vous sera envoyé 24 à 48 h avant la conférence. \nVous êtes intéressé(e) à revisionner la formation? Inscrivez-vous en achetant la formation ci-bas! \nPOUR AVOIR ACCÈS AU TARIF MEMBRE :\n– Connectez-vous à votre compte et les tarifs s’ajusteront automatiquement selon votre statut de membre à la fin du processus d’inscription. \nAucun crédit de formation pour le visionnement en différé. La vidéo apparaîtra sur cette page une fois inscrit. \nVous devez obligatoirement vous créer un compte pour avoir accès à la formation en différé (membre ou pas)\nCréer un compte GRATUIT non membre ICI \nNuméro de TPS : 83399 5079 RT0001\nNuméro de TVQ : 1208936201 TQ0001\nAucun crédit de formation n’est octroyé pour le visionnement en différé.
URL:https://aqmse.org/evenement/soiree-aqmse-le-cycliste-blesse-de-la-biomecanique-au-retour-sur-le-velo/
LOCATION:Conférence Teams
CATEGORIES:Soirée formation
ORGANIZER;CN="Catherine DeGarie":MAILTO:catherine.degarie@aqmse.org
END:VEVENT
END:VCALENDAR