BEGIN:VCALENDAR
VERSION:2.0
PRODID:-//Association quebecoise des medecins du sport - ECPv6.15.17.1//NONSGML v1.0//EN
CALSCALE:GREGORIAN
METHOD:PUBLISH
X-ORIGINAL-URL:https://aqmse.org
X-WR-CALDESC:Évènements pour Association quebecoise des medecins du sport
REFRESH-INTERVAL;VALUE=DURATION:PT1H
X-Robots-Tag:noindex
X-PUBLISHED-TTL:PT1H
BEGIN:VTIMEZONE
TZID:America/Toronto
BEGIN:DAYLIGHT
TZOFFSETFROM:-0500
TZOFFSETTO:-0400
TZNAME:EDT
DTSTART:20230312T070000
END:DAYLIGHT
BEGIN:STANDARD
TZOFFSETFROM:-0400
TZOFFSETTO:-0500
TZNAME:EST
DTSTART:20231105T060000
END:STANDARD
BEGIN:DAYLIGHT
TZOFFSETFROM:-0500
TZOFFSETTO:-0400
TZNAME:EDT
DTSTART:20240310T070000
END:DAYLIGHT
BEGIN:STANDARD
TZOFFSETFROM:-0400
TZOFFSETTO:-0500
TZNAME:EST
DTSTART:20241103T060000
END:STANDARD
BEGIN:DAYLIGHT
TZOFFSETFROM:-0500
TZOFFSETTO:-0400
TZNAME:EDT
DTSTART:20250309T070000
END:DAYLIGHT
BEGIN:STANDARD
TZOFFSETFROM:-0400
TZOFFSETTO:-0500
TZNAME:EST
DTSTART:20251102T060000
END:STANDARD
END:VTIMEZONE
BEGIN:VEVENT
DTSTART;TZID=America/Toronto:20240214T183000
DTEND;TZID=America/Toronto:20240214T213000
DTSTAMP:20260425T145656
CREATED:20240116T145814Z
LAST-MODIFIED:20250401T194237Z
UID:10000017-1707935400-1707946200@aqmse.org
SUMMARY:Formation AQMSE du 15 février 2024: Les traumatismes aux genoux chez les jeunes athlètes
DESCRIPTION:Inscription\nOutre notre congrès annuel\, nous continuons à offrir des soirées de formations thématiques en médecine du sport. La 1re formation en 2024 s’intitule : Les traumatismes aux genoux chez les jeunes athlètes.\nElle s’est tenue jeudi 15 février 2024. Voici le programme: \n                                             \n  \nVous êtes intéressé(e) à revisionner la formation? Inscrivez-vous en achetant la formation ci-bas!\n \nPOUR AVOIR ACCÈS AU TARIF MEMBRE : connectez-vous à votre compte et les tarifs s’ajusteront automatiquement selon votre statut de membre. Aucun crédit de formation pour le visionnement en différé.\nVous devez obligatoirement vous créer un compte pour avoir accès à la formation en différé (membre ou pas)\n\nCréer un compte GRATUIT non membre ICI \nTARIF D’INSCRIPTION : \nMembre AQMSE 50$+taxes \nNon-membre      100$+taxes \nNuméro de TPS : 83399 5079 RT0001\nNuméro de TVQ : 1208936201 TQ0001\nAucun crédit de formation n’est octroyé pour le visionnement en différé.
URL:https://aqmse.org/evenement/formation-aqmse-du-15-fevrier-2024-les-traumatismes-aux-genoux-chez-les-jeunes-athletes/
LOCATION:Conférence Zoom\, Québec\, Canada
CATEGORIES:Soirée formation
ORGANIZER;CN="Chantal Hellou":MAILTO:chantal.hellou@aqmse.org
END:VEVENT
END:VCALENDAR